BEGIN:VCALENDAR
VERSION:2.0
PRODID:-//Corridas de Rua - RS - ECPv4.5.7//NONSGML v1.0//EN
CALSCALE:GREGORIAN
METHOD:PUBLISH
X-WR-CALNAME:Corridas de Rua - RS
X-ORIGINAL-URL:https://corridasderuars.com.br
X-WR-CALDESC:Events for Corridas de Rua - RS
BEGIN:VEVENT
DTSTART;TZID=UTC+0:20180804T090000
DTEND;TZID=UTC+0:20180804T090000
DTSTAMP:20260420T034644
CREATED:20180706T173350Z
LAST-MODIFIED:20180706T173350Z
UID:4007-1533373200-1533373200@corridasderuars.com.br
SUMMARY:Cross Running 2018
DESCRIPTION:
URL:https://corridasderuars.com.br/evento/cross-running-2018/
CATEGORIES:14km,7km
ATTACH;FMTTYPE=image/jpeg:https://corridasderuars.com.br/wp-content/uploads/2017/12/bg48.jpg
END:VEVENT
END:VCALENDAR