BEGIN:VCALENDAR
VERSION:2.0
PRODID:-//Corridas de Rua - RS - ECPv4.5.7//NONSGML v1.0//EN
CALSCALE:GREGORIAN
METHOD:PUBLISH
X-WR-CALNAME:Corridas de Rua - RS
X-ORIGINAL-URL:https://corridasderuars.com.br
X-WR-CALDESC:Events for Corridas de Rua - RS
BEGIN:VEVENT
DTSTART;TZID=UTC+0:20171008T090000
DTEND;TZID=UTC+0:20171008T090000
DTSTAMP:20260420T065631
CREATED:20170711T153525Z
LAST-MODIFIED:20170711T153552Z
UID:2435-1507453200-1507453200@corridasderuars.com.br
SUMMARY:Crazy Race Penelope Charmosa
DESCRIPTION:
URL:https://corridasderuars.com.br/evento/crazy-race-penelope-charmosa/
CATEGORIES:15km
ATTACH;FMTTYPE=image/jpeg:https://corridasderuars.com.br/wp-content/uploads/2017/07/bgCountry3.jpg
END:VEVENT
END:VCALENDAR