BEGIN:VCALENDAR
VERSION:2.0
PRODID:-//Corridas de Rua - RS - ECPv4.5.7//NONSGML v1.0//EN
CALSCALE:GREGORIAN
METHOD:PUBLISH
X-WR-CALNAME:Corridas de Rua - RS
X-ORIGINAL-URL:https://corridasderuars.com.br
X-WR-CALDESC:Events for Corridas de Rua - RS
BEGIN:VEVENT
DTSTART;TZID=UTC+0:20211017T080000
DTEND;TZID=UTC+0:20211017T080000
DTSTAMP:20260421T100826
CREATED:20210903T173519Z
LAST-MODIFIED:20210903T173519Z
UID:7334-1634457600-1634457600@corridasderuars.com.br
SUMMARY:Corridas Unimed - Etapa Cruz Alta
DESCRIPTION:
URL:https://corridasderuars.com.br/evento/corridas-unimed-etapa-cruz-alta-2/
CATEGORIES:7km
ATTACH;FMTTYPE=image/jpeg:https://corridasderuars.com.br/wp-content/uploads/2017/12/bg59.jpg
END:VEVENT
END:VCALENDAR