BEGIN:VCALENDAR
VERSION:2.0
PRODID:-//Corridas de Rua - RS - ECPv4.5.7//NONSGML v1.0//EN
CALSCALE:GREGORIAN
METHOD:PUBLISH
X-WR-CALNAME:Corridas de Rua - RS
X-ORIGINAL-URL:https://corridasderuars.com.br
X-WR-CALDESC:Events for Corridas de Rua - RS
BEGIN:VEVENT
DTSTART;TZID=UTC+0:20210508T000000
DTEND;TZID=UTC+0:20210509T000000
DTSTAMP:20260421T083406
CREATED:20210330T123050Z
LAST-MODIFIED:20210330T123050Z
UID:7080-1620432000-1620518400@corridasderuars.com.br
SUMMARY:Corrida Virtual de Páscoa
DESCRIPTION:
URL:https://corridasderuars.com.br/evento/corrida-virtual-de-pascoa/
CATEGORIES:10km,3km,5km
ATTACH;FMTTYPE=image/jpeg:https://corridasderuars.com.br/wp-content/uploads/2019/08/bg205.jpg
END:VEVENT
END:VCALENDAR