BEGIN:VCALENDAR
VERSION:2.0
PRODID:-//Corridas de Rua - RS - ECPv4.5.7//NONSGML v1.0//EN
CALSCALE:GREGORIAN
METHOD:PUBLISH
X-WR-CALNAME:Corridas de Rua - RS
X-ORIGINAL-URL:https://corridasderuars.com.br
X-WR-CALDESC:Events for Corridas de Rua - RS
BEGIN:VEVENT
DTSTART;TZID=UTC+0:20190120T090000
DTEND;TZID=UTC+0:20190120T090000
DTSTAMP:20260421T083804
CREATED:20190117T123340Z
LAST-MODIFIED:20190117T123340Z
UID:4712-1547974800-1547974800@corridasderuars.com.br
SUMMARY:Corrida Verão 2019 - Posto Pillon
DESCRIPTION:
URL:https://corridasderuars.com.br/evento/corrida-verao-2019-posto-pillon/
CATEGORIES:1.7km,5.1km
ATTACH;FMTTYPE=image/jpeg:https://corridasderuars.com.br/wp-content/uploads/2018/10/bg85.jpg
END:VEVENT
END:VCALENDAR