BEGIN:VCALENDAR
VERSION:2.0
PRODID:-//Corridas de Rua - RS - ECPv4.5.7//NONSGML v1.0//EN
CALSCALE:GREGORIAN
METHOD:PUBLISH
X-WR-CALNAME:Corridas de Rua - RS
X-ORIGINAL-URL:https://corridasderuars.com.br
X-WR-CALDESC:Events for Corridas de Rua - RS
BEGIN:VEVENT
DTSTART;TZID=UTC+0:20171029T090000
DTEND;TZID=UTC+0:20171029T090000
DTSTAMP:20260420T094518
CREATED:20170925T123933Z
LAST-MODIFIED:20170925T123933Z
UID:2853-1509267600-1509267600@corridasderuars.com.br
SUMMARY:Corrida Solidária
DESCRIPTION:Dia 29 de outubro de 2017!!! Guarde esse dia na sua agenda para a pratica de uma atividade física em prol da SOLIDARIEDADE\, SAÚDE e conscientização ao mês do OUTUBRO ROSA! \nIremos nos reunir junto ao Anfiteatro Pôr do Sol\, às 9 horas e faremos uma corrida sem cronometrar o tempo\, apenas promovendo a prática da atividade física. \nO trajeto é de 5km\, saindo do Anfi Teatro e indo até o Estádio Beira Rio e pode ser feito CAMINHANDO ou CORRENDO. \nPedimos a todos que puderem para que doem alimentos não perecíveis\, esses serão doados a instituições carentes. \nQuem puder\, vista uma CAMISETA ROSA para que possamos conscientizar as pessoas da importância que o outubro rosa tem para todos nós! \nContamos com sua presença lá\, convide seus amigos e familiares\, leve seu animal de estimação para se divertir também. \nLeve sua água para se manter sempre hidratado\, pois é muito importante!! \n
URL:https://corridasderuars.com.br/evento/corrida-solidaria/
CATEGORIES:5km
ATTACH;FMTTYPE=image/jpeg:https://corridasderuars.com.br/wp-content/uploads/2017/07/bg10-1.jpg
END:VEVENT
END:VCALENDAR