BEGIN:VCALENDAR
VERSION:2.0
PRODID:-//Corridas de Rua - RS - ECPv4.5.7//NONSGML v1.0//EN
CALSCALE:GREGORIAN
METHOD:PUBLISH
X-WR-CALNAME:Corridas de Rua - RS
X-ORIGINAL-URL:https://corridasderuars.com.br
X-WR-CALDESC:Events for Corridas de Rua - RS
BEGIN:VEVENT
DTSTART;TZID=UTC+0:20181209T090000
DTEND;TZID=UTC+0:20181209T090000
DTSTAMP:20260421T113126
CREATED:20181122T123946Z
LAST-MODIFIED:20181122T123946Z
UID:4540-1544346000-1544346000@corridasderuars.com.br
SUMMARY:Corrida Sesc/Unopar
DESCRIPTION:
URL:https://corridasderuars.com.br/evento/corrida-sescunopar/
CATEGORIES:2.3km,4.6km
ATTACH;FMTTYPE=image/jpeg:https://corridasderuars.com.br/wp-content/uploads/2018/10/bg74.jpg
END:VEVENT
END:VCALENDAR