BEGIN:VCALENDAR
VERSION:2.0
PRODID:-//Corridas de Rua - RS - ECPv4.5.7//NONSGML v1.0//EN
CALSCALE:GREGORIAN
METHOD:PUBLISH
X-WR-CALNAME:Corridas de Rua - RS
X-ORIGINAL-URL:https://corridasderuars.com.br
X-WR-CALDESC:Events for Corridas de Rua - RS
BEGIN:VEVENT
DTSTART;TZID=UTC+0:20181223T083000
DTEND;TZID=UTC+0:20181223T083000
DTSTAMP:20260419T200326
CREATED:20181205T145208Z
LAST-MODIFIED:20181205T145208Z
UID:4589-1545553800-1545553800@corridasderuars.com.br
SUMMARY:Corrida Rústica Performance Academia
DESCRIPTION:
URL:https://corridasderuars.com.br/evento/corrida-rustica-performance-academia/
CATEGORIES:3km,9km
ATTACH;FMTTYPE=image/jpeg:https://corridasderuars.com.br/wp-content/uploads/2017/07/bg28-1.jpg
END:VEVENT
END:VCALENDAR