BEGIN:VCALENDAR
VERSION:2.0
PRODID:-//Corridas de Rua - RS - ECPv4.5.7//NONSGML v1.0//EN
CALSCALE:GREGORIAN
METHOD:PUBLISH
X-WR-CALNAME:Corridas de Rua - RS
X-ORIGINAL-URL:https://corridasderuars.com.br
X-WR-CALDESC:Events for Corridas de Rua - RS
BEGIN:VEVENT
DTSTART;TZID=UTC+0:20170716T093000
DTEND;TZID=UTC+0:20170716T093000
DTSTAMP:20260420T051704
CREATED:20170704T211009Z
LAST-MODIFIED:20170710T143709Z
UID:2154-1500197400-1500197400@corridasderuars.com.br
SUMMARY:Corrida Rústica Inverno Solidário
DESCRIPTION:
URL:https://corridasderuars.com.br/evento/corrida-rustica-inverno-solidario/
CATEGORIES:5km
ATTACH;FMTTYPE=image/jpeg:https://corridasderuars.com.br/wp-content/uploads/2017/07/bg12-1.jpg
END:VEVENT
END:VCALENDAR