BEGIN:VCALENDAR
VERSION:2.0
PRODID:-//Corridas de Rua - RS - ECPv4.5.7//NONSGML v1.0//EN
CALSCALE:GREGORIAN
METHOD:PUBLISH
X-WR-CALNAME:Corridas de Rua - RS
X-ORIGINAL-URL:https://corridasderuars.com.br
X-WR-CALDESC:Events for Corridas de Rua - RS
BEGIN:VEVENT
DTSTART;TZID=UTC+0:20181111T083000
DTEND;TZID=UTC+0:20181111T083000
DTSTAMP:20260419T213916
CREATED:20180711T201139Z
LAST-MODIFIED:20180711T201139Z
UID:4016-1541925000-1541925000@corridasderuars.com.br
SUMMARY:Corrida Rústica do CPOR/PA
DESCRIPTION:
URL:https://corridasderuars.com.br/evento/corrida-rustica-do-cporpa/
CATEGORIES:10km,5km
ATTACH;FMTTYPE=image/jpeg:https://corridasderuars.com.br/wp-content/uploads/2017/07/bg8-1.jpg
END:VEVENT
END:VCALENDAR