BEGIN:VCALENDAR
VERSION:2.0
PRODID:-//Corridas de Rua - RS - ECPv4.5.7//NONSGML v1.0//EN
CALSCALE:GREGORIAN
METHOD:PUBLISH
X-WR-CALNAME:Corridas de Rua - RS
X-ORIGINAL-URL:https://corridasderuars.com.br
X-WR-CALDESC:Events for Corridas de Rua - RS
BEGIN:VEVENT
DTSTART;TZID=UTC+0:20180930T100000
DTEND;TZID=UTC+0:20180930T100000
DTSTAMP:20260419T200739
CREATED:20180912T114734Z
LAST-MODIFIED:20180912T114734Z
UID:4242-1538301600-1538301600@corridasderuars.com.br
SUMMARY:Corrida Rústica do 76º Aniversário do 6º GAC
DESCRIPTION:
URL:https://corridasderuars.com.br/evento/corrida-rustica-do-76o-aniversario-do-6o-gac/
ATTACH;FMTTYPE=image/jpeg:https://corridasderuars.com.br/wp-content/uploads/2017/07/bg23-1.jpg
END:VEVENT
END:VCALENDAR