BEGIN:VCALENDAR
VERSION:2.0
PRODID:-//Corridas de Rua - RS - ECPv4.5.7//NONSGML v1.0//EN
CALSCALE:GREGORIAN
METHOD:PUBLISH
X-WR-CALNAME:Corridas de Rua - RS
X-ORIGINAL-URL:https://corridasderuars.com.br
X-WR-CALDESC:Events for Corridas de Rua - RS
BEGIN:VEVENT
DTSTART;TZID=UTC+0:20180304T083000
DTEND;TZID=UTC+0:20180304T083000
DTSTAMP:20260420T070953
CREATED:20171218T121418Z
LAST-MODIFIED:20171218T121418Z
UID:3323-1520152200-1520152200@corridasderuars.com.br
SUMMARY:Corrida Rústica de Rua e 1ª Cãominhada
DESCRIPTION:
URL:https://corridasderuars.com.br/evento/corrida-rustica-de-rua-e-1a-caominhada/
CATEGORIES:5km
ATTACH;FMTTYPE=image/jpeg:https://corridasderuars.com.br/wp-content/uploads/2017/07/bgCao.jpg
END:VEVENT
END:VCALENDAR