BEGIN:VCALENDAR
VERSION:2.0
PRODID:-//Corridas de Rua - RS - ECPv4.5.7//NONSGML v1.0//EN
CALSCALE:GREGORIAN
METHOD:PUBLISH
X-WR-CALNAME:Corridas de Rua - RS
X-ORIGINAL-URL:https://corridasderuars.com.br
X-WR-CALDESC:Events for Corridas de Rua - RS
BEGIN:VEVENT
DTSTART;TZID=UTC+0:20190104T090000
DTEND;TZID=UTC+0:20190104T090000
DTSTAMP:20260419T233313
CREATED:20181219T120728Z
LAST-MODIFIED:20181219T120728Z
UID:4635-1546592400-1546592400@corridasderuars.com.br
SUMMARY:Corrida Rústica Chicão Görski - 135° Aniversário de Santiago
DESCRIPTION:
URL:https://corridasderuars.com.br/evento/corrida-rustica-chicao-gorski-135-aniversario-de-santiago/
CATEGORIES:2km,4km,6km
ATTACH;FMTTYPE=image/jpeg:https://corridasderuars.com.br/wp-content/uploads/2018/10/bg86.jpg
END:VEVENT
END:VCALENDAR