BEGIN:VCALENDAR
VERSION:2.0
PRODID:-//Corridas de Rua - RS - ECPv4.5.7//NONSGML v1.0//EN
CALSCALE:GREGORIAN
METHOD:PUBLISH
X-WR-CALNAME:Corridas de Rua - RS
X-ORIGINAL-URL:https://corridasderuars.com.br
X-WR-CALDESC:Events for Corridas de Rua - RS
BEGIN:VEVENT
DTSTART;TZID=UTC+0:20191005T160000
DTEND;TZID=UTC+0:20191005T160000
DTSTAMP:20260420T084431
CREATED:20190822T164733Z
LAST-MODIFIED:20190822T164733Z
UID:5608-1570291200-1570291200@corridasderuars.com.br
SUMMARY:Corrida Rústica 77º Aniversário da 6º GAC
DESCRIPTION:
URL:https://corridasderuars.com.br/evento/corrida-rustica-77o-aniversario-da-6o-gac/
CATEGORIES:10km,5km
ATTACH;FMTTYPE=image/jpeg:https://corridasderuars.com.br/wp-content/uploads/2019/08/bg219.jpg
END:VEVENT
END:VCALENDAR