BEGIN:VCALENDAR
VERSION:2.0
PRODID:-//Corridas de Rua - RS - ECPv4.5.7//NONSGML v1.0//EN
CALSCALE:GREGORIAN
METHOD:PUBLISH
X-WR-CALNAME:Corridas de Rua - RS
X-ORIGINAL-URL:https://corridasderuars.com.br
X-WR-CALDESC:Events for Corridas de Rua - RS
BEGIN:VEVENT
DTSTART;TZID=UTC+0:20171101T193000
DTEND;TZID=UTC+0:20171101T193000
DTSTAMP:20260420T084442
CREATED:20171025T162828Z
LAST-MODIFIED:20171025T162855Z
UID:2941-1509564600-1509564600@corridasderuars.com.br
SUMMARY:Corrida pela vida Kenpo e Hemovita
DESCRIPTION:O banco de sangue precisa da sua ajuda!\nPor isso\, em parceria com a Hemovita\, vamos incentivar e resaltar a importância da doação de sangue.\nDia 01 de novembro ocorrerá a Corrida pela Vida\, onde a equipe da Hemovita Banco de Sangue estará presente auxiliando e informando aos interessados sobre a doação de sangue.\nVenha correr com a gente e abraçar esta causa! \n
URL:https://corridasderuars.com.br/evento/corrida-pela-vida-kenpo-e-hemovita/
ATTACH;FMTTYPE=image/jpeg:https://corridasderuars.com.br/wp-content/uploads/2017/07/bg19-1.jpg
END:VEVENT
END:VCALENDAR