BEGIN:VCALENDAR
VERSION:2.0
PRODID:-//Corridas de Rua - RS - ECPv4.5.7//NONSGML v1.0//EN
CALSCALE:GREGORIAN
METHOD:PUBLISH
X-WR-CALNAME:Corridas de Rua - RS
X-ORIGINAL-URL:https://corridasderuars.com.br
X-WR-CALDESC:Events for Corridas de Rua - RS
BEGIN:VEVENT
DTSTART;TZID=UTC+0:20211023T200000
DTEND;TZID=UTC+0:20211023T200000
DTSTAMP:20260421T083943
CREATED:20211004T133006Z
LAST-MODIFIED:20211004T133006Z
UID:7412-1635019200-1635019200@corridasderuars.com.br
SUMMARY:Corrida Pela Segurança
DESCRIPTION:
URL:https://corridasderuars.com.br/evento/corrida-pela-seguranca/
CATEGORIES:3km,5km
ATTACH;FMTTYPE=image/jpeg:https://corridasderuars.com.br/wp-content/uploads/2017/07/bg25-1.jpg
END:VEVENT
END:VCALENDAR