BEGIN:VCALENDAR
VERSION:2.0
PRODID:-//Corridas de Rua - RS - ECPv4.5.7//NONSGML v1.0//EN
CALSCALE:GREGORIAN
METHOD:PUBLISH
X-WR-CALNAME:Corridas de Rua - RS
X-ORIGINAL-URL:https://corridasderuars.com.br
X-WR-CALDESC:Events for Corridas de Rua - RS
BEGIN:VEVENT
DTSTART;TZID=UTC+0:20191027T090000
DTEND;TZID=UTC+0:20191027T090000
DTSTAMP:20260420T100857
CREATED:20190911T142122Z
LAST-MODIFIED:20190911T142122Z
UID:5662-1572166800-1572166800@corridasderuars.com.br
SUMMARY:Corrida Mexa-se Pela Vida
DESCRIPTION:
URL:https://corridasderuars.com.br/evento/corrida-mexa-se-pela-vida/
CATEGORIES:5.2km
ATTACH;FMTTYPE=image/jpeg:https://corridasderuars.com.br/wp-content/uploads/2019/08/bg219.jpg
END:VEVENT
END:VCALENDAR