BEGIN:VCALENDAR
VERSION:2.0
PRODID:-//Corridas de Rua - RS - ECPv4.5.7//NONSGML v1.0//EN
CALSCALE:GREGORIAN
METHOD:PUBLISH
X-WR-CALNAME:Corridas de Rua - RS
X-ORIGINAL-URL:https://corridasderuars.com.br
X-WR-CALDESC:Events for Corridas de Rua - RS
BEGIN:VEVENT
DTSTART;TZID=UTC+0:20180303T073000
DTEND;TZID=UTC+0:20180303T073000
DTSTAMP:20260420T034902
CREATED:20180130T140952Z
LAST-MODIFIED:20180130T140952Z
UID:3523-1520062200-1520062200@corridasderuars.com.br
SUMMARY:Corrida Insana
DESCRIPTION:
URL:https://corridasderuars.com.br/evento/corrida-insana/
CATEGORIES:5km
ATTACH;FMTTYPE=image/jpeg:https://corridasderuars.com.br/wp-content/uploads/2017/07/bgInsane.jpg
END:VEVENT
END:VCALENDAR