BEGIN:VCALENDAR
VERSION:2.0
PRODID:-//Corridas de Rua - RS - ECPv4.5.7//NONSGML v1.0//EN
CALSCALE:GREGORIAN
METHOD:PUBLISH
X-WR-CALNAME:Corridas de Rua - RS
X-ORIGINAL-URL:https://corridasderuars.com.br
X-WR-CALDESC:Events for Corridas de Rua - RS
BEGIN:VEVENT
DTSTART;TZID=UTC+0:20220220T083000
DTEND;TZID=UTC+0:20220220T083000
DTSTAMP:20260421T092653
CREATED:20220110T110519Z
LAST-MODIFIED:20220110T110519Z
UID:7696-1645345800-1645345800@corridasderuars.com.br
SUMMARY:Corrida Ecológica Ser Cisne / Maratona Clube Santa Rosa
DESCRIPTION:
URL:https://corridasderuars.com.br/evento/corrida-ecologica-ser-cisne-maratona-clube-santa-rosa/
CATEGORIES:2.5km,5km
ATTACH;FMTTYPE=image/jpeg:https://corridasderuars.com.br/wp-content/uploads/2017/07/bg22-1.jpg
END:VEVENT
END:VCALENDAR