BEGIN:VCALENDAR
VERSION:2.0
PRODID:-//Corridas de Rua - RS - ECPv4.5.7//NONSGML v1.0//EN
CALSCALE:GREGORIAN
METHOD:PUBLISH
X-WR-CALNAME:Corridas de Rua - RS
X-ORIGINAL-URL:https://corridasderuars.com.br
X-WR-CALDESC:Events for Corridas de Rua - RS
BEGIN:VEVENT
DTSTART;TZID=UTC+0:20170730T100000
DTEND;TZID=UTC+0:20170730T100000
DTSTAMP:20260420T054037
CREATED:20170704T213524Z
LAST-MODIFIED:20170710T143945Z
UID:2185-1501408800-1501408800@corridasderuars.com.br
SUMMARY:Corrida e Caminhada #Vai Arthur
DESCRIPTION:
URL:https://corridasderuars.com.br/evento/corrida-e-caminhada-vai-arthur/
CATEGORIES:6km
ATTACH;FMTTYPE=image/jpeg:https://corridasderuars.com.br/wp-content/uploads/2017/07/bg16-1.jpg
END:VEVENT
END:VCALENDAR