BEGIN:VCALENDAR
VERSION:2.0
PRODID:-//Corridas de Rua - RS - ECPv4.5.7//NONSGML v1.0//EN
CALSCALE:GREGORIAN
METHOD:PUBLISH
X-WR-CALNAME:Corridas de Rua - RS
X-ORIGINAL-URL:https://corridasderuars.com.br
X-WR-CALDESC:Events for Corridas de Rua - RS
BEGIN:VEVENT
DTSTART;TZID=UTC+0:20180422T083000
DTEND;TZID=UTC+0:20180422T083000
DTSTAMP:20260420T035143
CREATED:20180307T124517Z
LAST-MODIFIED:20180307T124543Z
UID:3648-1524385800-1524385800@corridasderuars.com.br
SUMMARY:Corrida e Caminhada Sérgio Guedes 65 Anos
DESCRIPTION:
URL:https://corridasderuars.com.br/evento/corrida-e-caminhada-sergio-guedes-65-anos/
CATEGORIES:2.5km,5km
ATTACH;FMTTYPE=image/jpeg:https://corridasderuars.com.br/wp-content/uploads/2017/12/bg61.jpg
END:VEVENT
END:VCALENDAR