BEGIN:VCALENDAR
VERSION:2.0
PRODID:-//Corridas de Rua - RS - ECPv4.5.7//NONSGML v1.0//EN
CALSCALE:GREGORIAN
METHOD:PUBLISH
X-WR-CALNAME:Corridas de Rua - RS
X-ORIGINAL-URL:https://corridasderuars.com.br
X-WR-CALDESC:Events for Corridas de Rua - RS
BEGIN:VEVENT
DTSTART;TZID=UTC+0:20180715T080000
DTEND;TZID=UTC+0:20180715T080000
DTSTAMP:20260419T231406
CREATED:20180515T120741Z
LAST-MODIFIED:20180515T120741Z
UID:3876-1531641600-1531641600@corridasderuars.com.br
SUMMARY:Corrida e Caminhada Master Run Avega
DESCRIPTION:
URL:https://corridasderuars.com.br/evento/corrida-e-caminhada-master-run-avega/
CATEGORIES:3km,8km
ATTACH;FMTTYPE=image/jpeg:https://corridasderuars.com.br/wp-content/uploads/2017/07/bg31.jpg
END:VEVENT
END:VCALENDAR