BEGIN:VCALENDAR
VERSION:2.0
PRODID:-//Corridas de Rua - RS - ECPv4.5.7//NONSGML v1.0//EN
CALSCALE:GREGORIAN
METHOD:PUBLISH
X-WR-CALNAME:Corridas de Rua - RS
X-ORIGINAL-URL:https://corridasderuars.com.br
X-WR-CALDESC:Events for Corridas de Rua - RS
BEGIN:VEVENT
DTSTART;TZID=UTC+0:20191215T090000
DTEND;TZID=UTC+0:20191215T090000
DTSTAMP:20260421T124836
CREATED:20191112T112137Z
LAST-MODIFIED:20191112T112137Z
UID:5970-1576400400-1576400400@corridasderuars.com.br
SUMMARY:Corrida e Caminhada do E.C. Pelotas
DESCRIPTION:
URL:https://corridasderuars.com.br/evento/corrida-e-caminhada-do-e-c-pelotas/
CATEGORIES:7km
ATTACH;FMTTYPE=image/jpeg:https://corridasderuars.com.br/wp-content/uploads/2017/07/bg14-1.jpg
END:VEVENT
END:VCALENDAR