BEGIN:VCALENDAR
VERSION:2.0
PRODID:-//Corridas de Rua - RS - ECPv4.5.7//NONSGML v1.0//EN
CALSCALE:GREGORIAN
METHOD:PUBLISH
X-WR-CALNAME:Corridas de Rua - RS
X-ORIGINAL-URL:https://corridasderuars.com.br
X-WR-CALDESC:Events for Corridas de Rua - RS
BEGIN:VEVENT
DTSTART;TZID=UTC+0:20260404T073000
DTEND;TZID=UTC+0:20260404T073000
DTSTAMP:20260420T100714
CREATED:20260304T115452Z
LAST-MODIFIED:20260304T115452Z
UID:14002-1775287800-1775287800@corridasderuars.com.br
SUMMARY:Corrida e Caminhada do Coelho
DESCRIPTION:
URL:https://corridasderuars.com.br/evento/corrida-e-caminhada-do-coelho-4/
CATEGORIES:10km,3km,5km
ATTACH;FMTTYPE=image/jpeg:https://corridasderuars.com.br/wp-content/uploads/2018/10/bg82.jpg
END:VEVENT
END:VCALENDAR