BEGIN:VCALENDAR
VERSION:2.0
PRODID:-//Corridas de Rua - RS - ECPv4.5.7//NONSGML v1.0//EN
CALSCALE:GREGORIAN
METHOD:PUBLISH
X-WR-CALNAME:Corridas de Rua - RS
X-ORIGINAL-URL:https://corridasderuars.com.br
X-WR-CALDESC:Events for Corridas de Rua - RS
BEGIN:VEVENT
DTSTART;TZID=UTC+0:20191208T083000
DTEND;TZID=UTC+0:20191208T083000
DTSTAMP:20260420T083629
CREATED:20191014T130952Z
LAST-MODIFIED:20191014T130952Z
UID:5839-1575793800-1575793800@corridasderuars.com.br
SUMMARY:Corrida e Caminhada 2019
DESCRIPTION:
URL:https://corridasderuars.com.br/evento/corrida-e-caminhada-2019/
CATEGORIES:5km
ATTACH;FMTTYPE=image/jpeg:https://corridasderuars.com.br/wp-content/uploads/2017/07/bg4-1.jpg
END:VEVENT
END:VCALENDAR