BEGIN:VCALENDAR
VERSION:2.0
PRODID:-//Corridas de Rua - RS - ECPv4.5.7//NONSGML v1.0//EN
CALSCALE:GREGORIAN
METHOD:PUBLISH
X-WR-CALNAME:Corridas de Rua - RS
X-ORIGINAL-URL:https://corridasderuars.com.br
X-WR-CALDESC:Events for Corridas de Rua - RS
BEGIN:VEVENT
DTSTART;TZID=UTC+0:20181021T080000
DTEND;TZID=UTC+0:20181021T080000
DTSTAMP:20260419T232235
CREATED:20180709T123410Z
LAST-MODIFIED:20180709T123410Z
UID:4011-1540108800-1540108800@corridasderuars.com.br
SUMMARY:Corrida do Grêmio 115 Anos
DESCRIPTION:
URL:https://corridasderuars.com.br/evento/corrida-do-gremio-115-anos/
CATEGORIES:10km,15km,3km,5km
ATTACH;FMTTYPE=image/jpeg:https://corridasderuars.com.br/wp-content/uploads/2017/07/bgGremio.jpg
END:VEVENT
END:VCALENDAR