BEGIN:VCALENDAR
VERSION:2.0
PRODID:-//Corridas de Rua - RS - ECPv4.5.7//NONSGML v1.0//EN
CALSCALE:GREGORIAN
METHOD:PUBLISH
X-WR-CALNAME:Corridas de Rua - RS
X-ORIGINAL-URL:https://corridasderuars.com.br
X-WR-CALDESC:Events for Corridas de Rua - RS
BEGIN:VEVENT
DTSTART;TZID=UTC+0:20180812T090000
DTEND;TZID=UTC+0:20180812T090000
DTSTAMP:20260419T231408
CREATED:20180806T145007Z
LAST-MODIFIED:20180806T145007Z
UID:4107-1534064400-1534064400@corridasderuars.com.br
SUMMARY:Corrida do Dia dos Pais
DESCRIPTION:
URL:https://corridasderuars.com.br/evento/corrida-do-dia-dos-pais/
CATEGORIES:1.9km,5.8km
ATTACH;FMTTYPE=image/jpeg:https://corridasderuars.com.br/wp-content/uploads/2017/07/bg17-1.jpg
END:VEVENT
END:VCALENDAR