BEGIN:VCALENDAR
VERSION:2.0
PRODID:-//Corridas de Rua - RS - ECPv4.5.7//NONSGML v1.0//EN
CALSCALE:GREGORIAN
METHOD:PUBLISH
X-WR-CALNAME:Corridas de Rua - RS
X-ORIGINAL-URL:https://corridasderuars.com.br
X-WR-CALDESC:Events for Corridas de Rua - RS
BEGIN:VEVENT
DTSTART;TZID=UTC+0:20180422T070000
DTEND;TZID=UTC+0:20180422T070000
DTSTAMP:20260420T005638
CREATED:20180302T170848Z
LAST-MODIFIED:20180302T170848Z
UID:3617-1524380400-1524380400@corridasderuars.com.br
SUMMARY:Corrida do Desafio dos 38 Km - Grupo de Corrida Treino10
DESCRIPTION:
URL:https://corridasderuars.com.br/evento/corrida-do-desafio-dos-38-km-grupo-de-corrida-treino10/
CATEGORIES:38km
ATTACH;FMTTYPE=image/jpeg:https://corridasderuars.com.br/wp-content/uploads/2017/07/bg9-1.jpg
END:VEVENT
END:VCALENDAR