BEGIN:VCALENDAR
VERSION:2.0
PRODID:-//Corridas de Rua - RS - ECPv4.5.7//NONSGML v1.0//EN
CALSCALE:GREGORIAN
METHOD:PUBLISH
X-WR-CALNAME:Corridas de Rua - RS
X-ORIGINAL-URL:https://corridasderuars.com.br
X-WR-CALDESC:Events for Corridas de Rua - RS
BEGIN:VEVENT
DTSTART;TZID=UTC+0:20211030T180000
DTEND;TZID=UTC+0:20211030T180000
DTSTAMP:20260421T100327
CREATED:20211001T164236Z
LAST-MODIFIED:20211001T164236Z
UID:7409-1635616800-1635616800@corridasderuars.com.br
SUMMARY:Corrida do Batom
DESCRIPTION:
URL:https://corridasderuars.com.br/evento/corrida-do-batom-3/
CATEGORIES:4km
ATTACH;FMTTYPE=image/jpeg:https://corridasderuars.com.br/wp-content/uploads/2018/10/bg81.jpg
END:VEVENT
END:VCALENDAR