BEGIN:VCALENDAR
VERSION:2.0
PRODID:-//Corridas de Rua - RS - ECPv4.5.7//NONSGML v1.0//EN
CALSCALE:GREGORIAN
METHOD:PUBLISH
X-WR-CALNAME:Corridas de Rua - RS
X-ORIGINAL-URL:https://corridasderuars.com.br
X-WR-CALDESC:Events for Corridas de Rua - RS
BEGIN:VEVENT
DTSTART;TZID=UTC+0:20190119T193000
DTEND;TZID=UTC+0:20190119T193000
DTSTAMP:20260421T083622
CREATED:20190109T185340Z
LAST-MODIFIED:20190109T185340Z
UID:4690-1547926200-1547926200@corridasderuars.com.br
SUMMARY:Corrida de Verão
DESCRIPTION:
URL:https://corridasderuars.com.br/evento/corrida-de-verao-2/
CATEGORIES:2.5km,5km
ATTACH;FMTTYPE=image/jpeg:https://corridasderuars.com.br/wp-content/uploads/2018/10/bg80.jpg
END:VEVENT
END:VCALENDAR