BEGIN:VCALENDAR
VERSION:2.0
PRODID:-//Corridas de Rua - RS - ECPv4.5.7//NONSGML v1.0//EN
CALSCALE:GREGORIAN
METHOD:PUBLISH
X-WR-CALNAME:Corridas de Rua - RS
X-ORIGINAL-URL:https://corridasderuars.com.br
X-WR-CALDESC:Events for Corridas de Rua - RS
BEGIN:VEVENT
DTSTART;TZID=UTC+0:20170723T090000
DTEND;TZID=UTC+0:20170723T090000
DTSTAMP:20260420T084216
CREATED:20170704T212907Z
LAST-MODIFIED:20170710T143841Z
UID:2177-1500800400-1500800400@corridasderuars.com.br
SUMMARY:Corrida de Rua Belém Novo 2017
DESCRIPTION:
URL:https://corridasderuars.com.br/evento/corrida-de-rua-belem-novo-2017/
CATEGORIES:10km,5km
ATTACH;FMTTYPE=image/jpeg:https://corridasderuars.com.br/wp-content/uploads/2017/07/bg1-1.jpg
END:VEVENT
END:VCALENDAR