BEGIN:VCALENDAR
VERSION:2.0
PRODID:-//Corridas de Rua - RS - ECPv4.5.7//NONSGML v1.0//EN
CALSCALE:GREGORIAN
METHOD:PUBLISH
X-WR-CALNAME:Corridas de Rua - RS
X-ORIGINAL-URL:https://corridasderuars.com.br
X-WR-CALDESC:Events for Corridas de Rua - RS
BEGIN:VEVENT
DTSTART;TZID=UTC+0:20180121T090000
DTEND;TZID=UTC+0:20180121T090000
DTSTAMP:20260420T025148
CREATED:20180108T110003Z
LAST-MODIFIED:20180108T110003Z
UID:3405-1516525200-1516525200@corridasderuars.com.br
SUMMARY:Corrida de Reis
DESCRIPTION:
URL:https://corridasderuars.com.br/evento/corrida-de-reis/
CATEGORIES:5km
ATTACH;FMTTYPE=image/jpeg:https://corridasderuars.com.br/wp-content/uploads/2017/07/bg25-1.jpg
END:VEVENT
END:VCALENDAR