BEGIN:VCALENDAR
VERSION:2.0
PRODID:-//Corridas de Rua - RS - ECPv4.5.7//NONSGML v1.0//EN
CALSCALE:GREGORIAN
METHOD:PUBLISH
X-WR-CALNAME:Corridas de Rua - RS
X-ORIGINAL-URL:https://corridasderuars.com.br
X-WR-CALDESC:Events for Corridas de Rua - RS
BEGIN:VEVENT
DTSTART;TZID=UTC+0:20181209T070000
DTEND;TZID=UTC+0:20181209T070000
DTSTAMP:20260419T200739
CREATED:20181002T173013Z
LAST-MODIFIED:20181002T173013Z
UID:4326-1544338800-1544338800@corridasderuars.com.br
SUMMARY:Corrida de Peito Aberto - 2ª Edição
DESCRIPTION:
URL:https://corridasderuars.com.br/evento/corrida-de-peito-aberto-2a-edicao/
CATEGORIES:5km
ATTACH;FMTTYPE=image/jpeg:https://corridasderuars.com.br/wp-content/uploads/2017/07/bg36.jpg
END:VEVENT
END:VCALENDAR