BEGIN:VCALENDAR
VERSION:2.0
PRODID:-//Corridas de Rua - RS - ECPv4.5.7//NONSGML v1.0//EN
CALSCALE:GREGORIAN
METHOD:PUBLISH
X-WR-CALNAME:Corridas de Rua - RS
X-ORIGINAL-URL:https://corridasderuars.com.br
X-WR-CALDESC:Events for Corridas de Rua - RS
BEGIN:VEVENT
DTSTART;TZID=UTC+0:20211031T090000
DTEND;TZID=UTC+0:20211031T090000
DTSTAMP:20260421T084045
CREATED:20211014T133413Z
LAST-MODIFIED:20211014T133634Z
UID:7455-1635670800-1635670800@corridasderuars.com.br
SUMMARY:Corrida de Aniversário de Itaara
DESCRIPTION:
URL:https://corridasderuars.com.br/evento/corrida-de-aniversario-de-itaara-2/
CATEGORIES:2km,5km
ATTACH;FMTTYPE=image/jpeg:https://corridasderuars.com.br/wp-content/uploads/2017/07/bg23-1.jpg
END:VEVENT
END:VCALENDAR