BEGIN:VCALENDAR
VERSION:2.0
PRODID:-//Corridas de Rua - RS - ECPv4.5.7//NONSGML v1.0//EN
CALSCALE:GREGORIAN
METHOD:PUBLISH
X-WR-CALNAME:Corridas de Rua - RS
X-ORIGINAL-URL:https://corridasderuars.com.br
X-WR-CALDESC:Events for Corridas de Rua - RS
BEGIN:VEVENT
DTSTART;TZID=UTC+0:20190421T080000
DTEND;TZID=UTC+0:20190421T080000
DTSTAMP:20260419T135713
CREATED:20190325T150214Z
LAST-MODIFIED:20190325T150214Z
UID:4957-1555833600-1555833600@corridasderuars.com.br
SUMMARY:Corrida de Aniversário de Camaquã - 155 anos
DESCRIPTION:
URL:https://corridasderuars.com.br/evento/corrida-de-aniversario-de-camaqua-155-anos/
CATEGORIES:3km,8km
ATTACH;FMTTYPE=image/jpeg:https://corridasderuars.com.br/wp-content/uploads/2018/10/bg81.jpg
END:VEVENT
END:VCALENDAR