BEGIN:VCALENDAR
VERSION:2.0
PRODID:-//Corridas de Rua - RS - ECPv4.5.7//NONSGML v1.0//EN
CALSCALE:GREGORIAN
METHOD:PUBLISH
X-WR-CALNAME:Corridas de Rua - RS
X-ORIGINAL-URL:https://corridasderuars.com.br
X-WR-CALDESC:Events for Corridas de Rua - RS
BEGIN:VEVENT
DTSTART;TZID=UTC+0:20180929T160000
DTEND;TZID=UTC+0:20180929T160000
DTSTAMP:20260420T005601
CREATED:20180827T112321Z
LAST-MODIFIED:20180827T112321Z
UID:4169-1538236800-1538236800@corridasderuars.com.br
SUMMARY:Corrida de Aniversário 90 anos dos Bombeiros
DESCRIPTION:
URL:https://corridasderuars.com.br/evento/corrida-de-aniversario-90-anos-dos-bombeiros/
CATEGORIES:4km
ATTACH;FMTTYPE=image/jpeg:https://corridasderuars.com.br/wp-content/uploads/2017/12/bg49.jpg
END:VEVENT
END:VCALENDAR