BEGIN:VCALENDAR
VERSION:2.0
PRODID:-//Corridas de Rua - RS - ECPv4.5.7//NONSGML v1.0//EN
CALSCALE:GREGORIAN
METHOD:PUBLISH
X-WR-CALNAME:Corridas de Rua - RS
X-ORIGINAL-URL:https://corridasderuars.com.br
X-WR-CALDESC:Events for Corridas de Rua - RS
BEGIN:VEVENT
DTSTART;TZID=UTC+0:20190528T233000
DTEND;TZID=UTC+0:20190528T233000
DTSTAMP:20260420T083517
CREATED:20190508T132021Z
LAST-MODIFIED:20190508T132021Z
UID:5177-1559086200-1559086200@corridasderuars.com.br
SUMMARY:Corrida DDD 2019
DESCRIPTION:
URL:https://corridasderuars.com.br/evento/corrida-ddd-2019/
CATEGORIES:4km
ATTACH;FMTTYPE=image/jpeg:https://corridasderuars.com.br/wp-content/uploads/2017/07/bgCrianca.jpg
END:VEVENT
END:VCALENDAR