BEGIN:VCALENDAR
VERSION:2.0
PRODID:-//Corridas de Rua - RS - ECPv4.5.7//NONSGML v1.0//EN
CALSCALE:GREGORIAN
METHOD:PUBLISH
X-WR-CALNAME:Corridas de Rua - RS
X-ORIGINAL-URL:https://corridasderuars.com.br
X-WR-CALDESC:Events for Corridas de Rua - RS
BEGIN:VEVENT
DTSTART;TZID=UTC+0:20210221T073000
DTEND;TZID=UTC+0:20210221T073000
DTSTAMP:20260421T100456
CREATED:20210216T180758Z
LAST-MODIFIED:20210216T180758Z
UID:7058-1613892600-1613892600@corridasderuars.com.br
SUMMARY:Corrida da Paz
DESCRIPTION:
URL:https://corridasderuars.com.br/evento/corrida-da-paz/
CATEGORIES:1.9km,3.8km,5.7km
ATTACH;FMTTYPE=image/jpeg:https://corridasderuars.com.br/wp-content/uploads/2018/10/bg70.jpg
END:VEVENT
END:VCALENDAR