BEGIN:VCALENDAR
VERSION:2.0
PRODID:-//Corridas de Rua - RS - ECPv4.5.7//NONSGML v1.0//EN
CALSCALE:GREGORIAN
METHOD:PUBLISH
X-WR-CALNAME:Corridas de Rua - RS
X-ORIGINAL-URL:https://corridasderuars.com.br
X-WR-CALDESC:Events for Corridas de Rua - RS
BEGIN:VEVENT
DTSTART;TZID=UTC+0:20180218T090000
DTEND;TZID=UTC+0:20180218T090000
DTSTAMP:20260420T025404
CREATED:20180217T165655Z
LAST-MODIFIED:20180217T165655Z
UID:3593-1518944400-1518944400@corridasderuars.com.br
SUMMARY:Corrida da Paz 2018 - CISM Day Run
DESCRIPTION:
URL:https://corridasderuars.com.br/evento/corrida-da-paz-2018-cism-day-run/
CATEGORIES:3km,5km
ATTACH;FMTTYPE=image/jpeg:https://corridasderuars.com.br/wp-content/uploads/2017/07/bg35.jpg
END:VEVENT
END:VCALENDAR