BEGIN:VCALENDAR
VERSION:2.0
PRODID:-//Corridas de Rua - RS - ECPv4.5.7//NONSGML v1.0//EN
CALSCALE:GREGORIAN
METHOD:PUBLISH
X-WR-CALNAME:Corridas de Rua - RS
X-ORIGINAL-URL:https://corridasderuars.com.br
X-WR-CALDESC:Events for Corridas de Rua - RS
BEGIN:VEVENT
DTSTART;TZID=UTC+0:20180902T093000
DTEND;TZID=UTC+0:20180902T093000
DTSTAMP:20260419T213757
CREATED:20180813T165113Z
LAST-MODIFIED:20180813T165135Z
UID:4135-1535880600-1535880600@corridasderuars.com.br
SUMMARY:Corrida da Pátria
DESCRIPTION:
URL:https://corridasderuars.com.br/evento/corrida-da-patria/
CATEGORIES:10km,5km
ATTACH;FMTTYPE=image/jpeg:https://corridasderuars.com.br/wp-content/uploads/2017/07/bg31.jpg
END:VEVENT
END:VCALENDAR