BEGIN:VCALENDAR
VERSION:2.0
PRODID:-//Corridas de Rua - RS - ECPv4.5.7//NONSGML v1.0//EN
CALSCALE:GREGORIAN
METHOD:PUBLISH
X-WR-CALNAME:Corridas de Rua - RS
X-ORIGINAL-URL:https://corridasderuars.com.br
X-WR-CALDESC:Events for Corridas de Rua - RS
BEGIN:VEVENT
DTSTART;TZID=UTC+0:20181125T083000
DTEND;TZID=UTC+0:20181125T083000
DTSTAMP:20260419T213654
CREATED:20181024T204015Z
LAST-MODIFIED:20181024T204015Z
UID:4413-1543134600-1543134600@corridasderuars.com.br
SUMMARY:Corrida da Lagoa
DESCRIPTION:
URL:https://corridasderuars.com.br/evento/corrida-da-lagoa/
CATEGORIES:16km,5km
ATTACH;FMTTYPE=image/jpeg:https://corridasderuars.com.br/wp-content/uploads/2018/10/bg78.jpg
END:VEVENT
END:VCALENDAR