BEGIN:VCALENDAR
VERSION:2.0
PRODID:-//Corridas de Rua - RS - ECPv4.5.7//NONSGML v1.0//EN
CALSCALE:GREGORIAN
METHOD:PUBLISH
X-WR-CALNAME:Corridas de Rua - RS
X-ORIGINAL-URL:https://corridasderuars.com.br
X-WR-CALDESC:Events for Corridas de Rua - RS
BEGIN:VEVENT
DTSTART;TZID=UTC+0:20190804T080000
DTEND;TZID=UTC+0:20190804T080000
DTSTAMP:20260420T101217
CREATED:20190401T134728Z
LAST-MODIFIED:20190521T152241Z
UID:4998-1564905600-1564905600@corridasderuars.com.br
SUMMARY:Corrida da Boa Causa pela Doação de Órgãos
DESCRIPTION:
URL:https://corridasderuars.com.br/evento/corrida-da-boa-causa-pela-doacao-de-orgaos/
ATTACH;FMTTYPE=image/jpeg:https://corridasderuars.com.br/wp-content/uploads/2018/10/bg85.jpg
END:VEVENT
END:VCALENDAR