BEGIN:VCALENDAR
VERSION:2.0
PRODID:-//Corridas de Rua - RS - ECPv4.5.7//NONSGML v1.0//EN
CALSCALE:GREGORIAN
METHOD:PUBLISH
X-WR-CALNAME:Corridas de Rua - RS
X-ORIGINAL-URL:https://corridasderuars.com.br
X-WR-CALDESC:Events for Corridas de Rua - RS
BEGIN:VEVENT
DTSTART;TZID=UTC+0:20260531T083000
DTEND;TZID=UTC+0:20260531T083000
DTSTAMP:20260421T112337
CREATED:20260417T122738Z
LAST-MODIFIED:20260417T122738Z
UID:14265-1780216200-1780216200@corridasderuars.com.br
SUMMARY:Corrida CDL em Movimento
DESCRIPTION:
URL:https://corridasderuars.com.br/evento/corrida-cdl-em-movimento/
CATEGORIES:10km,2.5km,5km
ATTACH;FMTTYPE=image/jpeg:https://corridasderuars.com.br/wp-content/uploads/2023/01/dfgdf.jpg
END:VEVENT
END:VCALENDAR