BEGIN:VCALENDAR
VERSION:2.0
PRODID:-//Corridas de Rua - RS - ECPv4.5.7//NONSGML v1.0//EN
CALSCALE:GREGORIAN
METHOD:PUBLISH
X-WR-CALNAME:Corridas de Rua - RS
X-ORIGINAL-URL:https://corridasderuars.com.br
X-WR-CALDESC:Events for Corridas de Rua - RS
BEGIN:VEVENT
DTSTART;TZID=UTC+0:20171112T090000
DTEND;TZID=UTC+0:20171112T090000
DTSTAMP:20260420T090019
CREATED:20171005T121605Z
LAST-MODIFIED:20171005T121727Z
UID:2900-1510477200-1510477200@corridasderuars.com.br
SUMMARY:Corrida Beach Fitness 10 Anos
DESCRIPTION:
URL:https://corridasderuars.com.br/evento/corrida-beach-fitness-10-anos/
CATEGORIES:4km
ATTACH;FMTTYPE=image/jpeg:https://corridasderuars.com.br/wp-content/uploads/2017/07/bgCountry3.jpg
END:VEVENT
END:VCALENDAR