BEGIN:VCALENDAR
VERSION:2.0
PRODID:-//Corridas de Rua - RS - ECPv4.5.7//NONSGML v1.0//EN
CALSCALE:GREGORIAN
METHOD:PUBLISH
X-WR-CALNAME:Corridas de Rua - RS
X-ORIGINAL-URL:https://corridasderuars.com.br
X-WR-CALDESC:Events for Corridas de Rua - RS
BEGIN:VEVENT
DTSTART;TZID=UTC+0:20171008T000000
DTEND;TZID=UTC+0:20171008T000000
DTSTAMP:20260420T065334
CREATED:20170727T231838Z
LAST-MODIFIED:20170727T231838Z
UID:2585-1507420800-1507420800@corridasderuars.com.br
SUMMARY:Corrida Aberta ACERGS
DESCRIPTION:
URL:https://corridasderuars.com.br/evento/corrida-aberta-acergs/
CATEGORIES:10km,3km,5km
ATTACH;FMTTYPE=image/jpeg:https://corridasderuars.com.br/wp-content/uploads/2017/07/bg9-1.jpg
END:VEVENT
END:VCALENDAR