BEGIN:VCALENDAR
VERSION:2.0
PRODID:-//Corridas de Rua - RS - ECPv4.5.7//NONSGML v1.0//EN
CALSCALE:GREGORIAN
METHOD:PUBLISH
X-WR-CALNAME:Corridas de Rua - RS
X-ORIGINAL-URL:https://corridasderuars.com.br
X-WR-CALDESC:Events for Corridas de Rua - RS
BEGIN:VEVENT
DTSTART;TZID=UTC+0:20211031T130000
DTEND;TZID=UTC+0:20211031T130000
DTSTAMP:20260421T084119
CREATED:20210928T135855Z
LAST-MODIFIED:20210928T135855Z
UID:7395-1635685200-1635685200@corridasderuars.com.br
SUMMARY:Circuito Trail 7K - Etapa Sapucaia do Sul
DESCRIPTION:
URL:https://corridasderuars.com.br/evento/circuito-trail-7k-etapa-sapucaia-do-sul/
CATEGORIES:14km,7km
ATTACH;FMTTYPE=image/jpeg:https://corridasderuars.com.br/wp-content/uploads/2018/10/bg79.jpg
END:VEVENT
END:VCALENDAR