BEGIN:VCALENDAR
VERSION:2.0
PRODID:-//Corridas de Rua - RS - ECPv4.5.7//NONSGML v1.0//EN
CALSCALE:GREGORIAN
METHOD:PUBLISH
X-WR-CALNAME:Corridas de Rua - RS
X-ORIGINAL-URL:https://corridasderuars.com.br
X-WR-CALDESC:Events for Corridas de Rua - RS
BEGIN:VEVENT
DTSTART;TZID=UTC+0:20190824T100000
DTEND;TZID=UTC+0:20190824T100000
DTSTAMP:20260420T084432
CREATED:20190403T161941Z
LAST-MODIFIED:20190531T125919Z
UID:5016-1566640800-1566640800@corridasderuars.com.br
SUMMARY:Circuito Trail 7K - Desafio do Paranhana
DESCRIPTION:
URL:https://corridasderuars.com.br/evento/circuito-trail-7k-desafio-do-paranhana/
CATEGORIES:17km,25km,7km
ATTACH;FMTTYPE=image/jpeg:https://corridasderuars.com.br/wp-content/uploads/2017/12/bg49.jpg
END:VEVENT
END:VCALENDAR