BEGIN:VCALENDAR
VERSION:2.0
PRODID:-//Corridas de Rua - RS - ECPv4.5.7//NONSGML v1.0//EN
CALSCALE:GREGORIAN
METHOD:PUBLISH
X-WR-CALNAME:Corridas de Rua - RS
X-ORIGINAL-URL:https://corridasderuars.com.br
X-WR-CALDESC:Events for Corridas de Rua - RS
BEGIN:VEVENT
DTSTART;TZID=UTC+0:20191124T110000
DTEND;TZID=UTC+0:20191124T110000
DTSTAMP:20260421T114815
CREATED:20191025T135042Z
LAST-MODIFIED:20191025T135042Z
UID:5897-1574593200-1574593200@corridasderuars.com.br
SUMMARY:Circuito Trail 7K - 3ª Etapa
DESCRIPTION:
URL:https://corridasderuars.com.br/evento/circuito-trail-7k-3a-etapa/
CATEGORIES:14km,7km
ATTACH;FMTTYPE=image/jpeg:https://corridasderuars.com.br/wp-content/uploads/2017/07/bg28-1.jpg
END:VEVENT
END:VCALENDAR