BEGIN:VCALENDAR
VERSION:2.0
PRODID:-//Corridas de Rua - RS - ECPv4.5.7//NONSGML v1.0//EN
CALSCALE:GREGORIAN
METHOD:PUBLISH
X-WR-CALNAME:Corridas de Rua - RS
X-ORIGINAL-URL:https://corridasderuars.com.br
X-WR-CALDESC:Events for Corridas de Rua - RS
BEGIN:VEVENT
DTSTART;TZID=UTC+0:20180519T090000
DTEND;TZID=UTC+0:20180519T090000
DTSTAMP:20260420T023248
CREATED:20180205T174742Z
LAST-MODIFIED:20180205T174742Z
UID:3560-1526720400-1526720400@corridasderuars.com.br
SUMMARY:Circuito Trail 7K - 2ª Etapa Trail dos Morros
DESCRIPTION:
URL:https://corridasderuars.com.br/evento/circuito-trail-7k-2a-etapa-trail-dos-morros/
CATEGORIES:14km,3km,7km
ATTACH;FMTTYPE=image/jpeg:https://corridasderuars.com.br/wp-content/uploads/2017/07/bgCountry3.jpg
END:VEVENT
END:VCALENDAR