BEGIN:VCALENDAR
VERSION:2.0
PRODID:-//Corridas de Rua - RS - ECPv4.5.7//NONSGML v1.0//EN
CALSCALE:GREGORIAN
METHOD:PUBLISH
X-WR-CALNAME:Corridas de Rua - RS
X-ORIGINAL-URL:https://corridasderuars.com.br
X-WR-CALDESC:Events for Corridas de Rua - RS
BEGIN:VEVENT
DTSTART;TZID=UTC+0:20210807T140000
DTEND;TZID=UTC+0:20210807T140000
DTSTAMP:20260421T113259
CREATED:20210630T133718Z
LAST-MODIFIED:20210630T133718Z
UID:7203-1628344800-1628344800@corridasderuars.com.br
SUMMARY:Circuito Trail 7K - 2ª Etapa
DESCRIPTION:
URL:https://corridasderuars.com.br/evento/circuito-trail-7k-2a-etapa-2/
CATEGORIES:15km,7km
ATTACH;FMTTYPE=image/jpeg:https://corridasderuars.com.br/wp-content/uploads/2017/07/bgCountry1.jpg
END:VEVENT
END:VCALENDAR